{
 "currentVersion": 10.91,
 "serviceDescription": "Commerce City Aerial Imagery 2020 (DRCOG DRAPP 2020)",
 "name": "Imagery/CC_DRAPP_2020",
 "description": "Commerce City Aerial Imagery 2020 (DRCOG DRAPP 2020)",
 "extent": {
  "xmin": 3130831.9999,
  "ymin": 1700311.9998,
  "xmax": 3252271.9999,
  "ymax": 1774232.2498,
  "spatialReference": {
   "wkid": 103013,
   "latestWkid": 6428
  }
 },
 "initialExtent": {
  "xmin": 3130831.9999,
  "ymin": 1700311.9998,
  "xmax": 3252271.9999,
  "ymax": 1774232.2498,
  "spatialReference": {
   "wkid": 103013,
   "latestWkid": 6428
  }
 },
 "fullExtent": {
  "xmin": 3130831.9999,
  "ymin": 1700311.9998,
  "xmax": 3252271.9999,
  "ymax": 1774232.2498,
  "spatialReference": {
   "wkid": 103013,
   "latestWkid": 6428
  }
 },
 "pixelSizeX": 0.25,
 "pixelSizeY": 0.25,
 "bandCount": 4,
 "pixelType": "U8",
 "minPixelSize": 0,
 "maxPixelSize": 0,
 "copyrightText": "City of Commerce City, CO and DRCOG",
 "serviceDataType": "esriImageServiceDataTypeGeneric",
 "minValues": [
  0,
  0,
  0,
  0
 ],
 "maxValues": [
  255,
  255,
  255,
  255
 ],
 "meanValues": [
  122.23358260139457,
  114.68544778888308,
  105.61040712698514,
  116.90407803443861
 ],
 "stdvValues": [
  39.149545663512654,
  35.96655218707729,
  34.87687188760228,
  33.623851112981534
 ],
 "objectIdField": "",
 "fields": [],
 "capabilities": "Image,Metadata,Mensuration",
 "defaultMosaicMethod": "Center",
 "allowedMosaicMethods": "",
 "sortField": "",
 "sortValue": null,
 "sortAscending": true,
 "mosaicOperator": "First",
 "defaultCompressionQuality": 75,
 "defaultResamplingMethod": "Bilinear",
 "maxImageHeight": 4100,
 "maxImageWidth": 15000,
 "allowRasterFunction": true,
 "rasterFunctionInfos": [
  {
   "name": "None",
   "description": "",
   "help": ""
  }
 ],
 "rasterTypeInfos": [
  {
   "name": "Raster Dataset",
   "description": "Supports all ArcGIS Raster Datasets",
   "help": ""
  }
 ],
 "mensurationCapabilities": "Basic",
 "hasHistograms": true,
 "hasColormap": false,
 "hasRasterAttributeTable": false,
 "minScale": 0,
 "maxScale": 0,
 "exportTilesAllowed": false,
 "hasMultidimensions": false,
 "supportsStatistics": false,
 "supportsAdvancedQueries": false,
 "editFieldsInfo": null,
 "ownershipBasedAccessControlForRasters": null,
 "allowComputeTiePoints": false,
 "useStandardizedQueries": true,
 "advancedQueryCapabilities": {
  "useStandardizedQueries": true,
  "supportsStatistics": false,
  "supportsOrderBy": false,
  "supportsDistinct": false,
  "supportsPagination": false
 },
 "spatialReference": {
  "wkid": 103013,
  "latestWkid": 6428
 }
}
