{
 "currentVersion": 10.91,
 "serviceDescription": "This is a dataset of imagery tiles from the 2018 DRAPP that cover the area of the City of Commerce City. ",
 "name": "PropertyLookup/Commerce_City_DRAPP_2018",
 "description": "This is a dataset of imagery tiles from the 2018 DRAPP that cover the area of the City of Commerce City. ",
 "extent": {
  "xmin": 3141392,
  "ymin": 1705592,
  "xmax": 3220592,
  "ymax": 1768952,
  "spatialReference": {
   "wkt": "PROJCS[\"NAD_1983_2011_StatePlane_Colorado_Central_FIPS_0502_Ft_US\",GEOGCS[\"GCS_North_American_1983\",DATUM[\"D_North_American_1983\",SPHEROID[\"GRS_1980\",6378137.0,298.257222101]],PRIMEM[\"Greenwich\",0.0],UNIT[\"Degree\",0.0174532925199433]],PROJECTION[\"Lambert_Conformal_Conic\"],PARAMETER[\"false_easting\",3000000.000316083],PARAMETER[\"false_northing\",999999.999996],PARAMETER[\"central_meridian\",-105.5],PARAMETER[\"standard_parallel_1\",38.45],PARAMETER[\"standard_parallel_2\",39.75],PARAMETER[\"latitude_of_origin\",37.83333333333334],UNIT[\"Foot_US\",0.3048006096012192]]"
  }
 },
 "initialExtent": {
  "xmin": 3141392,
  "ymin": 1705592,
  "xmax": 3220592,
  "ymax": 1768952,
  "spatialReference": {
   "wkt": "PROJCS[\"NAD_1983_2011_StatePlane_Colorado_Central_FIPS_0502_Ft_US\",GEOGCS[\"GCS_North_American_1983\",DATUM[\"D_North_American_1983\",SPHEROID[\"GRS_1980\",6378137.0,298.257222101]],PRIMEM[\"Greenwich\",0.0],UNIT[\"Degree\",0.0174532925199433]],PROJECTION[\"Lambert_Conformal_Conic\"],PARAMETER[\"false_easting\",3000000.000316083],PARAMETER[\"false_northing\",999999.999996],PARAMETER[\"central_meridian\",-105.5],PARAMETER[\"standard_parallel_1\",38.45],PARAMETER[\"standard_parallel_2\",39.75],PARAMETER[\"latitude_of_origin\",37.83333333333334],UNIT[\"Foot_US\",0.3048006096012192]]"
  }
 },
 "fullExtent": {
  "xmin": 3141392,
  "ymin": 1705592,
  "xmax": 3220592,
  "ymax": 1768952,
  "spatialReference": {
   "wkt": "PROJCS[\"NAD_1983_2011_StatePlane_Colorado_Central_FIPS_0502_Ft_US\",GEOGCS[\"GCS_North_American_1983\",DATUM[\"D_North_American_1983\",SPHEROID[\"GRS_1980\",6378137.0,298.257222101]],PRIMEM[\"Greenwich\",0.0],UNIT[\"Degree\",0.0174532925199433]],PROJECTION[\"Lambert_Conformal_Conic\"],PARAMETER[\"false_easting\",3000000.000316083],PARAMETER[\"false_northing\",999999.999996],PARAMETER[\"central_meridian\",-105.5],PARAMETER[\"standard_parallel_1\",38.45],PARAMETER[\"standard_parallel_2\",39.75],PARAMETER[\"latitude_of_origin\",37.83333333333334],UNIT[\"Foot_US\",0.3048006096012192]]"
  }
 },
 "pixelSizeX": 0.25,
 "pixelSizeY": 0.25,
 "bandCount": 5,
 "pixelType": "U8",
 "minPixelSize": 0.21701388888888887,
 "maxPixelSize": 868.0555555555555,
 "copyrightText": "DRCOG, Commerce City GIS",
 "serviceDataType": "esriImageServiceDataTypeGeneric",
 "minValues": [
  0,
  4,
  4,
  0,
  255
 ],
 "maxValues": [
  214,
  211,
  212,
  204,
  255
 ],
 "meanValues": [
  127.71112489661,
  114.83105872622,
  100.83643507031,
  123.27956989247,
  255
 ],
 "stdvValues": [
  22.226554740324,
  18.996805350356,
  16.623946200926,
  22.550458179004,
  0
 ],
 "objectIdField": "",
 "fields": [],
 "capabilities": "Image,Mensuration,Metadata,Tilemap",
 "defaultMosaicMethod": "Center",
 "allowedMosaicMethods": "",
 "sortField": "",
 "sortValue": null,
 "sortAscending": true,
 "mosaicOperator": "First",
 "defaultCompressionQuality": 75,
 "defaultResamplingMethod": "Bilinear",
 "maxImageHeight": 4100,
 "maxImageWidth": 15000,
 "singleFusedMapCache": true,
 "tileInfo": {
  "rows": 256,
  "cols": 256,
  "dpi": 96,
  "format": "MIXED",
  "compressionQuality": 75,
  "origin": {
   "x": -118767900,
   "y": 149010300
  },
  "spatialReference": {
   "wkt": "PROJCS[\"NAD_1983_2011_StatePlane_Colorado_Central_FIPS_0502_Ft_US\",GEOGCS[\"GCS_North_American_1983\",DATUM[\"D_North_American_1983\",SPHEROID[\"GRS_1980\",6378137.0,298.257222101]],PRIMEM[\"Greenwich\",0.0],UNIT[\"Degree\",0.0174532925199433]],PROJECTION[\"Lambert_Conformal_Conic\"],PARAMETER[\"false_easting\",3000000.000316083],PARAMETER[\"false_northing\",999999.999996],PARAMETER[\"central_meridian\",-105.5],PARAMETER[\"standard_parallel_1\",38.45],PARAMETER[\"standard_parallel_2\",39.75],PARAMETER[\"latitude_of_origin\",37.83333333333334],UNIT[\"Foot_US\",0.3048006096012192]]"
  },
  "lods": [
   {
    "level": 0,
    "resolution": 868.0555555555555,
    "scale": 1000000
   },
   {
    "level": 1,
    "resolution": 434.02777777777777,
    "scale": 500000
   },
   {
    "level": 2,
    "resolution": 217.01388888888889,
    "scale": 250000
   },
   {
    "level": 3,
    "resolution": 108.50694444444444,
    "scale": 125000
   },
   {
    "level": 4,
    "resolution": 55.55555555555555,
    "scale": 64000
   },
   {
    "level": 5,
    "resolution": 27.777777777777775,
    "scale": 32000
   },
   {
    "level": 6,
    "resolution": 13.888888888888888,
    "scale": 16000
   },
   {
    "level": 7,
    "resolution": 6.944444444444444,
    "scale": 8000
   },
   {
    "level": 8,
    "resolution": 3.472222222222222,
    "scale": 4000
   },
   {
    "level": 9,
    "resolution": 1.736111111111111,
    "scale": 2000
   },
   {
    "level": 10,
    "resolution": 0.8680555555555555,
    "scale": 1000
   },
   {
    "level": 11,
    "resolution": 0.43402777777777773,
    "scale": 500
   },
   {
    "level": 12,
    "resolution": 0.21701388888888887,
    "scale": 250
   }
  ]
 },
 "cacheType": "Map",
 "allowRasterFunction": true,
 "rasterFunctionInfos": [
  {
   "name": "None",
   "description": "",
   "help": ""
  }
 ],
 "rasterTypeInfos": [
  {
   "name": "Raster Dataset",
   "description": "Supports all ArcGIS Raster Datasets",
   "help": ""
  }
 ],
 "mensurationCapabilities": "Basic",
 "hasHistograms": true,
 "hasColormap": false,
 "hasRasterAttributeTable": false,
 "minScale": 1000000,
 "maxScale": 250,
 "minLOD": 0,
 "maxLOD": 12,
 "exportTilesAllowed": false,
 "hasMultidimensions": false,
 "supportsStatistics": false,
 "supportsAdvancedQueries": false,
 "editFieldsInfo": null,
 "ownershipBasedAccessControlForRasters": null,
 "allowComputeTiePoints": false,
 "useStandardizedQueries": true,
 "advancedQueryCapabilities": {
  "useStandardizedQueries": true,
  "supportsStatistics": false,
  "supportsOrderBy": false,
  "supportsDistinct": false,
  "supportsPagination": false
 },
 "spatialReference": {
  "wkt": "PROJCS[\"NAD_1983_2011_StatePlane_Colorado_Central_FIPS_0502_Ft_US\",GEOGCS[\"GCS_North_American_1983\",DATUM[\"D_North_American_1983\",SPHEROID[\"GRS_1980\",6378137.0,298.257222101]],PRIMEM[\"Greenwich\",0.0],UNIT[\"Degree\",0.0174532925199433]],PROJECTION[\"Lambert_Conformal_Conic\"],PARAMETER[\"false_easting\",3000000.000316083],PARAMETER[\"false_northing\",999999.999996],PARAMETER[\"central_meridian\",-105.5],PARAMETER[\"standard_parallel_1\",38.45],PARAMETER[\"standard_parallel_2\",39.75],PARAMETER[\"latitude_of_origin\",37.83333333333334],UNIT[\"Foot_US\",0.3048006096012192]]"
 }
}
