View In:
ArcGIS JavaScript
ArcGIS Online Map Viewer
ArcGIS Earth
ArcMap
View Footprint In:
ArcGIS Online Map Viewer
Service Description: Commerce City Aerial Imagery 2020 (DRCOG DRAPP 2020)
Name: Imagery/CC_DRAPP_2020
Description: Commerce City Aerial Imagery 2020 (DRCOG DRAPP 2020)
Single Fused Map Cache: false
Extent:
XMin: 3130831.9999
YMin: 1700311.9998
XMax: 3252271.9999
YMax: 1774232.2498
Spatial Reference: 103013
(6428)
Initial Extent:
XMin: 3130831.9999
YMin: 1700311.9998
XMax: 3252271.9999
YMax: 1774232.2498
Spatial Reference: 103013
(6428)
Full Extent:
XMin: 3130831.9999
YMin: 1700311.9998
XMax: 3252271.9999
YMax: 1774232.2498
Spatial Reference: 103013
(6428)
Pixel Size X: 0.25
Pixel Size Y: 0.25
Band Count: 4
Pixel Type: U8
RasterFunction Infos: {"rasterFunctionInfos": [{
"name": "None",
"description": "",
"help": ""
}]}
Mensuration Capabilities: Basic
Has Histograms: true
Has Colormap: false
Has Multi Dimensions : false
Rendering Rule:
Min Scale: 0
Max Scale: 0
Copyright Text: City of Commerce City, CO and DRCOG
Service Data Type: esriImageServiceDataTypeGeneric
Min Values: 0, 0, 0, 0
Max Values: 255, 255, 255, 255
Mean Values: 122.23358260139457, 114.68544778888308, 105.61040712698514, 116.90407803443861
Standard Deviation Values: 39.149545663512654, 35.96655218707729, 34.87687188760228, 33.623851112981534
Object ID Field:
Fields:
None
Default Mosaic Method: Center
Allowed Mosaic Methods:
SortField:
SortValue: null
Mosaic Operator: First
Default Compression Quality: 75
Default Resampling Method: Bilinear
Max Record Count: null
Max Image Height: 4100
Max Image Width: 15000
Max Download Image Count: null
Max Mosaic Image Count: null
Allow Raster Function: true
Allow Copy: null
Allow Analysis: null
Allow Compute TiePoints: false
Supports Statistics: false
Supports Advanced Queries: false
Use StandardizedQueries: true
Raster Type Infos:
Name: Raster Dataset
Description: Supports all ArcGIS Raster Datasets
Help:
Has Raster Attribute Table: false
Edit Fields Info: null
Ownership Based AccessControl For Rasters: null
Child Resources:
Info
Histograms
Key Properties
Legend
Raster Function Infos
Supported Operations:
Export Image
Identify
Measure
Compute Histograms
Compute Statistics Histograms
Get Samples
Compute Class Statistics
Query Boundary
Compute Pixel Location
Compute Angles
Validate
Project