View In:
ArcGIS JavaScript
ArcGIS Online Map Viewer
ArcGIS Earth
ArcMap
View Footprint In:
ArcGIS Online Map Viewer
Service Description: This is a dataset of imagery tiles from the 2018 DRAPP that cover the area of the City of Commerce City.
Name: PropertyLookup/Commerce_City_DRAPP_2018
Description: This is a dataset of imagery tiles from the 2018 DRAPP that cover the area of the City of Commerce City.
Single Fused Map Cache: true
Tile Info:
- Height: 256
- Width: 256
- DPI: 96
-
Levels of Detail: 13
- Format: MIXED
- Compression Quality: 75.0
- LERC Error: NaN
- Origin: X: -1.187679E8
Y: 1.490103E8
- Spatial Reference: PROJCS["NAD_1983_2011_StatePlane_Colorado_Central_FIPS_0502_Ft_US",GEOGCS["GCS_North_American_1983",DATUM["D_North_American_1983",SPHEROID["GRS_1980",6378137.0,298.257222101]],PRIMEM["Greenwich",0.0],UNIT["Degree",0.0174532925199433]],PROJECTION["Lambert_Conformal_Conic"],PARAMETER["false_easting",3000000.000316083],PARAMETER["false_northing",999999.999996],PARAMETER["central_meridian",-105.5],PARAMETER["standard_parallel_1",38.45],PARAMETER["standard_parallel_2",39.75],PARAMETER["latitude_of_origin",37.83333333333334],UNIT["Foot_US",0.3048006096012192]]
Extent:
XMin: 3141392
YMin: 1705592
XMax: 3220592
YMax: 1768952
Spatial Reference: PROJCS["NAD_1983_2011_StatePlane_Colorado_Central_FIPS_0502_Ft_US",GEOGCS["GCS_North_American_1983",DATUM["D_North_American_1983",SPHEROID["GRS_1980",6378137.0,298.257222101]],PRIMEM["Greenwich",0.0],UNIT["Degree",0.0174532925199433]],PROJECTION["Lambert_Conformal_Conic"],PARAMETER["false_easting",3000000.000316083],PARAMETER["false_northing",999999.999996],PARAMETER["central_meridian",-105.5],PARAMETER["standard_parallel_1",38.45],PARAMETER["standard_parallel_2",39.75],PARAMETER["latitude_of_origin",37.83333333333334],UNIT["Foot_US",0.3048006096012192]]
Initial Extent:
XMin: 3141392
YMin: 1705592
XMax: 3220592
YMax: 1768952
Spatial Reference: PROJCS["NAD_1983_2011_StatePlane_Colorado_Central_FIPS_0502_Ft_US",GEOGCS["GCS_North_American_1983",DATUM["D_North_American_1983",SPHEROID["GRS_1980",6378137.0,298.257222101]],PRIMEM["Greenwich",0.0],UNIT["Degree",0.0174532925199433]],PROJECTION["Lambert_Conformal_Conic"],PARAMETER["false_easting",3000000.000316083],PARAMETER["false_northing",999999.999996],PARAMETER["central_meridian",-105.5],PARAMETER["standard_parallel_1",38.45],PARAMETER["standard_parallel_2",39.75],PARAMETER["latitude_of_origin",37.83333333333334],UNIT["Foot_US",0.3048006096012192]]
Full Extent:
XMin: 3141392
YMin: 1705592
XMax: 3220592
YMax: 1768952
Spatial Reference: PROJCS["NAD_1983_2011_StatePlane_Colorado_Central_FIPS_0502_Ft_US",GEOGCS["GCS_North_American_1983",DATUM["D_North_American_1983",SPHEROID["GRS_1980",6378137.0,298.257222101]],PRIMEM["Greenwich",0.0],UNIT["Degree",0.0174532925199433]],PROJECTION["Lambert_Conformal_Conic"],PARAMETER["false_easting",3000000.000316083],PARAMETER["false_northing",999999.999996],PARAMETER["central_meridian",-105.5],PARAMETER["standard_parallel_1",38.45],PARAMETER["standard_parallel_2",39.75],PARAMETER["latitude_of_origin",37.83333333333334],UNIT["Foot_US",0.3048006096012192]]
Pixel Size X: 0.25
Pixel Size Y: 0.25
Band Count: 5
Pixel Type: U8
RasterFunction Infos: {"rasterFunctionInfos": [{
"name": "None",
"description": "",
"help": ""
}]}
Mensuration Capabilities: Basic
Has Histograms: true
Has Colormap: false
Has Multi Dimensions : false
Rendering Rule:
Min Scale: 1000000
Max Scale: 250
Min LOD: 0
Max LOD: 12
Copyright Text: DRCOG, Commerce City GIS
Service Data Type: esriImageServiceDataTypeGeneric
Min Values: 0, 4, 4, 0, 255
Max Values: 214, 211, 212, 204, 255
Mean Values: 127.71112489661, 114.83105872622, 100.83643507031, 123.27956989247, 255
Standard Deviation Values: 22.226554740324, 18.996805350356, 16.623946200926, 22.550458179004, 0
Object ID Field:
Fields:
None
Default Mosaic Method: Center
Allowed Mosaic Methods:
SortField:
SortValue: null
Mosaic Operator: First
Default Compression Quality: 75
Default Resampling Method: Bilinear
Max Record Count: null
Max Image Height: 4100
Max Image Width: 15000
Max Download Image Count: null
Max Mosaic Image Count: null
Allow Raster Function: true
Allow Copy: null
Allow Analysis: null
Allow Compute TiePoints: false
Supports Statistics: false
Supports Advanced Queries: false
Use StandardizedQueries: true
Raster Type Infos:
Name: Raster Dataset
Description: Supports all ArcGIS Raster Datasets
Help:
Has Raster Attribute Table: false
Edit Fields Info: null
Ownership Based AccessControl For Rasters: null
Child Resources:
Info
Histograms
Key Properties
Legend
Raster Function Infos
Supported Operations:
Export Image
Identify
Measure
Compute Histograms
Compute Statistics Histograms
Get Samples
Compute Class Statistics
Query Boundary
Compute Pixel Location
Compute Angles
Validate
Project